BEGIN:VCALENDAR
VERSION:2.0
PRODID:-//EBCOG - ECPv6.15.18//NONSGML v1.0//EN
CALSCALE:GREGORIAN
METHOD:PUBLISH
X-ORIGINAL-URL:https://ebcog.eu
X-WR-CALDESC:Events for EBCOG
REFRESH-INTERVAL;VALUE=DURATION:PT1H
X-Robots-Tag:noindex
X-PUBLISHED-TTL:PT1H
BEGIN:VTIMEZONE
TZID:Europe/Brussels
BEGIN:DAYLIGHT
TZOFFSETFROM:+0100
TZOFFSETTO:+0200
TZNAME:CEST
DTSTART:20250330T010000
END:DAYLIGHT
BEGIN:STANDARD
TZOFFSETFROM:+0200
TZOFFSETTO:+0100
TZNAME:CET
DTSTART:20251026T010000
END:STANDARD
BEGIN:DAYLIGHT
TZOFFSETFROM:+0100
TZOFFSETTO:+0200
TZNAME:CEST
DTSTART:20260329T010000
END:DAYLIGHT
BEGIN:STANDARD
TZOFFSETFROM:+0200
TZOFFSETTO:+0100
TZNAME:CET
DTSTART:20261025T010000
END:STANDARD
BEGIN:DAYLIGHT
TZOFFSETFROM:+0100
TZOFFSETTO:+0200
TZNAME:CEST
DTSTART:20270328T010000
END:DAYLIGHT
BEGIN:STANDARD
TZOFFSETFROM:+0200
TZOFFSETTO:+0100
TZNAME:CET
DTSTART:20271031T010000
END:STANDARD
END:VTIMEZONE
BEGIN:VEVENT
DTSTART;VALUE=DATE:20260703
DTEND;VALUE=DATE:20260705
DTSTAMP:20260422T110528
CREATED:20260225T083448Z
LAST-MODIFIED:20260413T072443Z
UID:3260-1783036800-1783209599@ebcog.eu
SUMMARY:EMAS Academy
DESCRIPTION:EMAS Academy is EMAS’s new education programme for healthcare professionals in menopause and midlife care\, which will be held on 3-4 July 2026 in Rotterdam\, Netherlands. \nThe Academy provides practical\, evidence-based training and supports clinicians in applying current guidance to real clinical practice. It addresses important gaps in traditional medical education and aligns closely with EMAS’s mission to improve women’s health.
URL:https://ebcog.eu/event/emas-academy/
LOCATION:Rotterdam\, Rotterdam\, Netherlands
ATTACH;FMTTYPE=image/png:https://ebcog.eu/wp-content/uploads/2026/02/Social-media-1080-x-1350-px-1.png
END:VEVENT
END:VCALENDAR