BEGIN:VCALENDAR
VERSION:2.0
PRODID:-//EBCOG - ECPv6.15.18//NONSGML v1.0//EN
CALSCALE:GREGORIAN
METHOD:PUBLISH
X-WR-CALNAME:EBCOG
X-ORIGINAL-URL:https://ebcog.eu
X-WR-CALDESC:Events for EBCOG
REFRESH-INTERVAL;VALUE=DURATION:PT1H
X-Robots-Tag:noindex
X-PUBLISHED-TTL:PT1H
BEGIN:VTIMEZONE
TZID:Europe/Brussels
BEGIN:DAYLIGHT
TZOFFSETFROM:+0100
TZOFFSETTO:+0200
TZNAME:CEST
DTSTART:20250330T010000
END:DAYLIGHT
BEGIN:STANDARD
TZOFFSETFROM:+0200
TZOFFSETTO:+0100
TZNAME:CET
DTSTART:20251026T010000
END:STANDARD
BEGIN:DAYLIGHT
TZOFFSETFROM:+0100
TZOFFSETTO:+0200
TZNAME:CEST
DTSTART:20260329T010000
END:DAYLIGHT
BEGIN:STANDARD
TZOFFSETFROM:+0200
TZOFFSETTO:+0100
TZNAME:CET
DTSTART:20261025T010000
END:STANDARD
BEGIN:DAYLIGHT
TZOFFSETFROM:+0100
TZOFFSETTO:+0200
TZNAME:CEST
DTSTART:20270328T010000
END:DAYLIGHT
BEGIN:STANDARD
TZOFFSETFROM:+0200
TZOFFSETTO:+0100
TZNAME:CET
DTSTART:20271031T010000
END:STANDARD
END:VTIMEZONE
BEGIN:VEVENT
DTSTART;VALUE=DATE:20260910
DTEND;VALUE=DATE:20260911
DTSTAMP:20260426T013543
CREATED:20260424T133101Z
LAST-MODIFIED:20260424T141459Z
UID:3317-1788998400-1789084799@ebcog.eu
SUMMARY:1st Autumn EBCOG Symposium
DESCRIPTION:On behalf of EBCOG\, in association with the Polish Society of Obstetrics and Gynaecology (Polskie Towarzystwo Ginekologów I Położników) we are pleased to invite you to attend a Symposium and Interactive Workshop organised ahead of the Annual Academy of Trainees Meeting of Polish trainees in Obstetrics and Gynaecology\, to be held on the 10th September 2026. \nThe highlight of this event will be an interactive workshop focused on skills development and enhancement with video recordings\, complemented by state-of-the-art lectures delivered by key opinion leaders in the field. The programme aims to provide high-quality educational content that is directly relevant to both specialists and trainees. \nThe symposium will be conducted in English and will be open to specialists and trainees from across Europe\, providing an excellent platform for knowledge exchange\, skills training\, and professional networking.
URL:https://ebcog.eu/event/1st-autumn-ebcog-symposium/
LOCATION:Lodz\, Lodz\, Poland
ATTACH;FMTTYPE=image/png:https://ebcog.eu/wp-content/uploads/2026/04/1st-Autumn-EBCOG-Symposium-logo.png
END:VEVENT
END:VCALENDAR