BEGIN:VCALENDAR
VERSION:2.0
PRODID:-//EBCOG - ECPv6.15.18//NONSGML v1.0//EN
CALSCALE:GREGORIAN
METHOD:PUBLISH
X-WR-CALNAME:EBCOG
X-ORIGINAL-URL:https://ebcog.eu
X-WR-CALDESC:Events for EBCOG
REFRESH-INTERVAL;VALUE=DURATION:PT1H
X-Robots-Tag:noindex
X-PUBLISHED-TTL:PT1H
BEGIN:VTIMEZONE
TZID:Europe/Brussels
BEGIN:DAYLIGHT
TZOFFSETFROM:+0100
TZOFFSETTO:+0200
TZNAME:CEST
DTSTART:20240331T010000
END:DAYLIGHT
BEGIN:STANDARD
TZOFFSETFROM:+0200
TZOFFSETTO:+0100
TZNAME:CET
DTSTART:20241027T010000
END:STANDARD
BEGIN:DAYLIGHT
TZOFFSETFROM:+0100
TZOFFSETTO:+0200
TZNAME:CEST
DTSTART:20250330T010000
END:DAYLIGHT
BEGIN:STANDARD
TZOFFSETFROM:+0200
TZOFFSETTO:+0100
TZNAME:CET
DTSTART:20251026T010000
END:STANDARD
BEGIN:DAYLIGHT
TZOFFSETFROM:+0100
TZOFFSETTO:+0200
TZNAME:CEST
DTSTART:20260329T010000
END:DAYLIGHT
BEGIN:STANDARD
TZOFFSETFROM:+0200
TZOFFSETTO:+0100
TZNAME:CET
DTSTART:20261025T010000
END:STANDARD
END:VTIMEZONE
BEGIN:VEVENT
DTSTART;VALUE=DATE:20251024
DTEND;VALUE=DATE:20251109
DTSTAMP:20260423T010831
CREATED:20250811T105711Z
LAST-MODIFIED:20250811T105711Z
UID:3078-1761264000-1762646399@ebcog.eu
SUMMARY:5th Silesian Workshop on Gynaecologic Oncology
DESCRIPTION:The 5th Silesian Workshop on Gynaecologic Oncology will be devoted this year to advanced surgical techniques in the treatment of ovarian cancer. \nThe event will be held in two parts:\n• 24 October 2025 (online) – a lecture session with experts from Poland and Europe\, dedicated to upper abdominal surgery and urinary tract reconstruction in the course of ovarian cancer treatment.\n• 7–8 November 2025 (Katowice) – a live surgery demonstration and practical cadaveric workshops\, during which participants will be able to practice the discussed procedures under the guidance of experienced tutors\, including: Prof. Alehandra Martinez\, Prof. Santiago Domingo\, Prof. Artem Stepanyan\, and Prof. Ilker Selciuk. \nTarget audience: Medical doctors specializing or in training in obstetrics and gynaecology\, gynaecologic oncology\, and surgical oncology. \nRegistration: Applications including the registration form\, CV\, and a motivation letter (up to 500 words) should be submitted via the website www.laboratoriumginekologiczne.pl by 30 September 2025. The list of accepted participants will be announced by email on 10 October 2025. \nDetailed information on participation fees and the event programme is available on the workshop website. \nFor further inquiries\, please contact: kontakt@laboratoriumginekologiczne.pl +48 571 278 709
URL:https://ebcog.eu/event/5th-silesian-workshop-on-gynaecologic-oncology/
LOCATION:Katowice\, Katowice\, Poland
ATTACH;FMTTYPE=image/png:https://ebcog.eu/wp-content/uploads/2025/08/5th-Silesian-Gyn-Onco.png
END:VEVENT
END:VCALENDAR